BEGIN:VCALENDAR
VERSION:2.0
PRODID:-//eventon.com NONSGML v1.0//EN
CALSCALE:GREGORIAN
METHOD:PUBLISH
BEGIN:VEVENT
UID:69e4d23784b4c
DTSTAMP:20260419T130143Z
DTSTART:20241010T170000Z
DTEND:20241010T190000Z
LOCATION:
SUMMARY:Vins & Chocolats
DESCRIPTION:En association avec un oenologue\,  venez apprendre à déguste
 r le chocolat et à l&rsquo;associer avec le vin. La soirée se terminera p
 ar un plateau de fromage.\nhttps://www.latelier-numero5.fr/events/vins-choc
 olats-11/
URL:https://www.latelier-numero5.fr/events/vins-chocolats-11/
END:VEVENT
END:VCALENDAR